BEGIN:VCALENDAR
VERSION:2.0
PRODID:-//Vero News - ECPv6.15.18//NONSGML v1.0//EN
CALSCALE:GREGORIAN
METHOD:PUBLISH
X-WR-CALNAME:Vero News
X-ORIGINAL-URL:https://veronews.com
X-WR-CALDESC:Events for Vero News
REFRESH-INTERVAL;VALUE=DURATION:PT1H
X-Robots-Tag:noindex
X-PUBLISHED-TTL:PT1H
BEGIN:VTIMEZONE
TZID:America/New_York
BEGIN:DAYLIGHT
TZOFFSETFROM:-0500
TZOFFSETTO:-0400
TZNAME:EDT
DTSTART:20190310T070000
END:DAYLIGHT
BEGIN:STANDARD
TZOFFSETFROM:-0400
TZOFFSETTO:-0500
TZNAME:EST
DTSTART:20191103T060000
END:STANDARD
BEGIN:DAYLIGHT
TZOFFSETFROM:-0500
TZOFFSETTO:-0400
TZNAME:EDT
DTSTART:20200308T070000
END:DAYLIGHT
BEGIN:STANDARD
TZOFFSETFROM:-0400
TZOFFSETTO:-0500
TZNAME:EST
DTSTART:20201101T060000
END:STANDARD
BEGIN:DAYLIGHT
TZOFFSETFROM:-0500
TZOFFSETTO:-0400
TZNAME:EDT
DTSTART:20210314T070000
END:DAYLIGHT
BEGIN:STANDARD
TZOFFSETFROM:-0400
TZOFFSETTO:-0500
TZNAME:EST
DTSTART:20211107T060000
END:STANDARD
BEGIN:DAYLIGHT
TZOFFSETFROM:-0500
TZOFFSETTO:-0400
TZNAME:EDT
DTSTART:20220313T070000
END:DAYLIGHT
BEGIN:STANDARD
TZOFFSETFROM:-0400
TZOFFSETTO:-0500
TZNAME:EST
DTSTART:20221106T060000
END:STANDARD
BEGIN:DAYLIGHT
TZOFFSETFROM:-0500
TZOFFSETTO:-0400
TZNAME:EDT
DTSTART:20230312T070000
END:DAYLIGHT
BEGIN:STANDARD
TZOFFSETFROM:-0400
TZOFFSETTO:-0500
TZNAME:EST
DTSTART:20231105T060000
END:STANDARD
END:VTIMEZONE
BEGIN:VEVENT
DTSTART;TZID=America/New_York:20200711T193000
DTEND;TZID=America/New_York:20200711T230000
DTSTAMP:20260424T051416
CREATED:20200707T171940Z
LAST-MODIFIED:20200708T190619Z
UID:135949-1594495800-1594508400@veronews.com
SUMMARY:Comedy Zone
DESCRIPTION:Riverside’s showcase of professional comedians touring the comedy circuit takes the Waxlax Stage. Comedians are: Mr. Showtime (aka David Scott) & Bill “Bull” Ohse. Local musicians play the Live in the Loop Outdoor Stage on Friday and Saturday. Band for this weekend is Hired Guns.
URL:https://veronews.com/event/comedy-zone-14/
LOCATION:Riverside Theatre\, 3250 Riverside Park Dr.\, Vero Beach\, FL\, 32963\, United States
CATEGORIES:Entertainment
ORGANIZER;CN="Riverside Theatre":MAILTO:tix@riversidetheatre.com
END:VEVENT
BEGIN:VEVENT
DTSTART;TZID=America/New_York:20200717T193000
DTEND;TZID=America/New_York:20200717T230000
DTSTAMP:20260424T051416
CREATED:20200707T173319Z
LAST-MODIFIED:20200708T190612Z
UID:135952-1595014200-1595026800@veronews.com
SUMMARY:Comedy Zone
DESCRIPTION:Riverside’s showcase of professional comedians touring the comedy circuit takes the Waxlax Stage. Comedians are: Greg Hall & Mark Evans. Local musicians play the Live in the Loop Outdoor Stage on Friday and Saturday. Band for this weekend is British Invasion Express (aka The Beatle Guys).
URL:https://veronews.com/event/comedy-zone-13/
LOCATION:Riverside Theatre\, 3250 Riverside Park Dr.\, Vero Beach\, FL\, 32963\, United States
CATEGORIES:Entertainment
ORGANIZER;CN="Riverside Theatre":MAILTO:tix@riversidetheatre.com
END:VEVENT
BEGIN:VEVENT
DTSTART;TZID=America/New_York:20200718T193000
DTEND;TZID=America/New_York:20200718T230000
DTSTAMP:20260424T051416
CREATED:20200707T173410Z
LAST-MODIFIED:20200708T190631Z
UID:135956-1595100600-1595113200@veronews.com
SUMMARY:Comedy Zone
DESCRIPTION:Riverside’s showcase of professional comedians touring the comedy circuit takes the Waxlax Stage. Comedians are: Greg Hall & Mark Evans. Local musicians play the Live in the Loop Outdoor Stage on Friday and Saturday. Band for this weekend is British Invasion Express (aka The Beatle Guys).
URL:https://veronews.com/event/comedy-zone-15/
LOCATION:Riverside Theatre\, 3250 Riverside Park Dr.\, Vero Beach\, FL\, 32963\, United States
CATEGORIES:Entertainment
ORGANIZER;CN="Riverside Theatre":MAILTO:tix@riversidetheatre.com
END:VEVENT
BEGIN:VEVENT
DTSTART;TZID=America/New_York:20200724T193000
DTEND;TZID=America/New_York:20200724T230000
DTSTAMP:20260424T051416
CREATED:20200707T173520Z
LAST-MODIFIED:20200708T190638Z
UID:135959-1595619000-1595631600@veronews.com
SUMMARY:Comedy Zone
DESCRIPTION:Riverside’s showcase of professional comedians touring the comedy circuit takes the Waxlax Stage. Comedians are: Mike Rivera & Mike Murillo. Local musicians play the Live in the Loop Outdoor Stage on Friday and Saturday. Band for this weekend is Ladies of Soul.
URL:https://veronews.com/event/comedy-zone-16/
LOCATION:Riverside Theatre\, 3250 Riverside Park Dr.\, Vero Beach\, FL\, 32963\, United States
CATEGORIES:Entertainment
ORGANIZER;CN="Riverside Theatre":MAILTO:tix@riversidetheatre.com
END:VEVENT
BEGIN:VEVENT
DTSTART;TZID=America/New_York:20200725T193000
DTEND;TZID=America/New_York:20200725T230000
DTSTAMP:20260424T051416
CREATED:20200707T173619Z
LAST-MODIFIED:20200708T190449Z
UID:135963-1595705400-1595718000@veronews.com
SUMMARY:Comedy Zone
DESCRIPTION:Riverside’s showcase of professional comedians touring the comedy circuit takes the Waxlax Stage. Comedians are: Mike Rivera & Mike Murillo. Local musicians play the Live in the Loop Outdoor Stage on Friday and Saturday. Band for this weekend is Ladies of Soul.
URL:https://veronews.com/event/comedy-zone-11/
LOCATION:Riverside Theatre\, 3250 Riverside Park Dr.\, Vero Beach\, FL\, 32963\, United States
CATEGORIES:Entertainment
ORGANIZER;CN="Riverside Theatre":MAILTO:tix@riversidetheatre.com
END:VEVENT
BEGIN:VEVENT
DTSTART;TZID=America/New_York:20200731T193000
DTEND;TZID=America/New_York:20200731T230000
DTSTAMP:20260424T051416
CREATED:20200707T173731Z
LAST-MODIFIED:20200708T190433Z
UID:135966-1596223800-1596236400@veronews.com
SUMMARY:Comedy Zone
DESCRIPTION:Riverside’s showcase of professional comedians touring the comedy circuit takes the Waxlax Stage. Comedians are: Tim\, The Dairy Farmer & BC Murphy. Local musicians play the Live in the Loop Outdoor Stage on Friday and Saturday. Band for this weekend is Beachland.
URL:https://veronews.com/event/comedy-zone-10/
LOCATION:Riverside Theatre\, 3250 Riverside Park Dr.\, Vero Beach\, FL\, 32963\, United States
CATEGORIES:Entertainment
ORGANIZER;CN="Riverside Theatre":MAILTO:tix@riversidetheatre.com
END:VEVENT
BEGIN:VEVENT
DTSTART;TZID=America/New_York:20200801T193000
DTEND;TZID=America/New_York:20200801T230000
DTSTAMP:20260424T051416
CREATED:20200707T173821Z
LAST-MODIFIED:20200708T190545Z
UID:135969-1596310200-1596322800@veronews.com
SUMMARY:Comedy Zone
DESCRIPTION:Riverside’s showcase of professional comedians touring the comedy circuit takes the Waxlax Stage. Comedians are: Tim\, The Dairy Farmer & BC Murphy. Local musicians play the Live in the Loop Outdoor Stage on Friday and Saturday. Band for this weekend is Beachland.
URL:https://veronews.com/event/comedy-zone-9/
LOCATION:Riverside Theatre\, 3250 Riverside Park Dr.\, Vero Beach\, FL\, 32963\, United States
CATEGORIES:Entertainment
ORGANIZER;CN="Riverside Theatre":MAILTO:tix@riversidetheatre.com
END:VEVENT
BEGIN:VEVENT
DTSTART;TZID=America/New_York:20200816T190000
DTEND;TZID=America/New_York:20200816T210000
DTSTAMP:20260424T051416
CREATED:20200811T151512Z
LAST-MODIFIED:20200811T151528Z
UID:137423-1597604400-1597611600@veronews.com
SUMMARY:Poetry and Music: Petal Heinrich
DESCRIPTION:Petal Heinrich will be playing the trombone and also read aloud her poems.\nJazz\, funk\, and electronic influence for your dancing needs.
URL:https://veronews.com/event/poetry-music-petal-heinrich/
LOCATION:FL
CATEGORIES:Entertainment
ORGANIZER;CN="Art Concept Alternative":MAILTO:silviamedina2012@yahoo.com
END:VEVENT
BEGIN:VEVENT
DTSTART;TZID=America/New_York:20201002T190000
DTEND;TZID=America/New_York:20201002T223000
DTSTAMP:20260424T051416
CREATED:20201001T143426Z
LAST-MODIFIED:20201002T122018Z
UID:140027-1601665200-1601677800@veronews.com
SUMMARY:Comedy Zone
DESCRIPTION:Riverside’s showcase of professional comedians touring the comedy circuit takes the Waxlax Stage. Comedians are: Sid Davis and Mike Lee. Local musicians play the Live in the Loop Outdoor Stage on Friday and Saturday. Bands are: Switch N’ Whiskey (Friday) and Humdingers (Saturday).
URL:https://veronews.com/event/comedy-zone-40/
LOCATION:Riverside Theatre\, 3250 Riverside Park Dr.\, Vero Beach\, FL\, 32963\, United States
CATEGORIES:Entertainment
ORGANIZER;CN="Riverside Theatre":MAILTO:tix@riversidetheatre.com
END:VEVENT
BEGIN:VEVENT
DTSTART;TZID=America/New_York:20201003T190000
DTEND;TZID=America/New_York:20201003T223000
DTSTAMP:20260424T051416
CREATED:20201001T143525Z
LAST-MODIFIED:20201002T122010Z
UID:140030-1601751600-1601764200@veronews.com
SUMMARY:Comedy Zone
DESCRIPTION:Riverside’s showcase of professional comedians touring the comedy circuit takes the Waxlax Stage. Comedians are: Sid Davis and Mike Lee. Local musicians play the Live in the Loop Outdoor Stage on Friday and Saturday. Bands are: Switch N’ Whiskey (Friday) and Humdingers (Saturday).
URL:https://veronews.com/event/comedy-zone-39/
LOCATION:Riverside Theatre\, 3250 Riverside Park Dr.\, Vero Beach\, FL\, 32963\, United States
CATEGORIES:Entertainment
ORGANIZER;CN="Riverside Theatre":MAILTO:tix@riversidetheatre.com
END:VEVENT
BEGIN:VEVENT
DTSTART;TZID=America/New_York:20201009T190000
DTEND;TZID=America/New_York:20201009T223000
DTSTAMP:20260424T051416
CREATED:20201001T143646Z
LAST-MODIFIED:20201002T122001Z
UID:140033-1602270000-1602282600@veronews.com
SUMMARY:Comedy Zone
DESCRIPTION:Riverside’s showcase of professional comedians touring the comedy circuit takes the Waxlax Stage. Comedians are: Jim Holder and Andy Huggins. Local musicians play the Live in the Loop Outdoor Stage on Friday and Saturday. Bands are: Minglewood (Friday) and The Real Deal (Saturday).
URL:https://veronews.com/event/comedy-zone-38/
LOCATION:Riverside Theatre\, 3250 Riverside Park Dr.\, Vero Beach\, FL\, 32963\, United States
CATEGORIES:Entertainment
ORGANIZER;CN="Riverside Theatre":MAILTO:tix@riversidetheatre.com
END:VEVENT
BEGIN:VEVENT
DTSTART;TZID=America/New_York:20201010T190000
DTEND;TZID=America/New_York:20201010T223000
DTSTAMP:20260424T051416
CREATED:20201001T143742Z
LAST-MODIFIED:20201002T121952Z
UID:140036-1602356400-1602369000@veronews.com
SUMMARY:Comedy Zone
DESCRIPTION:Riverside’s showcase of professional comedians touring the comedy circuit takes the Waxlax Stage. Comedians are: Jim Holder and Andy Huggins. Local musicians play the Live in the Loop Outdoor Stage on Friday and Saturday. Bands are: Minglewood (Friday) and The Real Deal (Saturday).
URL:https://veronews.com/event/comedy-zone-37/
LOCATION:Riverside Theatre\, 3250 Riverside Park Dr.\, Vero Beach\, FL\, 32963\, United States
CATEGORIES:Entertainment
ORGANIZER;CN="Riverside Theatre":MAILTO:tix@riversidetheatre.com
END:VEVENT
BEGIN:VEVENT
DTSTART;TZID=America/New_York:20201016T190000
DTEND;TZID=America/New_York:20201016T223000
DTSTAMP:20260424T051416
CREATED:20201001T143912Z
LAST-MODIFIED:20201002T121944Z
UID:140039-1602874800-1602887400@veronews.com
SUMMARY:Comedy Zone
DESCRIPTION:Riverside’s showcase of professional comedians touring the comedy circuit takes the Waxlax Stage. Comedians are: Kent Radar and JoJo Casillas. Local musicians play the Live in the Loop Outdoor Stage on Friday and Saturday. Bands are: Jessie & The Thieves (Friday) and Ryz-N-Soulz (Saturday).
URL:https://veronews.com/event/comedy-zone-36/
LOCATION:Riverside Theatre\, 3250 Riverside Park Dr.\, Vero Beach\, FL\, 32963\, United States
CATEGORIES:Entertainment
ORGANIZER;CN="Riverside Theatre":MAILTO:tix@riversidetheatre.com
END:VEVENT
BEGIN:VEVENT
DTSTART;TZID=America/New_York:20201017T190000
DTEND;TZID=America/New_York:20201017T223000
DTSTAMP:20260424T051416
CREATED:20201001T144011Z
LAST-MODIFIED:20201002T121936Z
UID:140042-1602961200-1602973800@veronews.com
SUMMARY:Comedy Zone
DESCRIPTION:Riverside’s showcase of professional comedians touring the comedy circuit takes the Waxlax Stage. Comedians are: Kent Radar and JoJo Casillas. Local musicians play the Live in the Loop Outdoor Stage on Friday and Saturday. Bands are: Jessie & The Thieves (Friday) and Ryz-N-Soulz (Saturday).
URL:https://veronews.com/event/comedy-zone-35/
LOCATION:Riverside Theatre\, 3250 Riverside Park Dr.\, Vero Beach\, FL\, 32963\, United States
CATEGORIES:Entertainment
ORGANIZER;CN="Riverside Theatre":MAILTO:tix@riversidetheatre.com
END:VEVENT
BEGIN:VEVENT
DTSTART;TZID=America/New_York:20201023T190000
DTEND;TZID=America/New_York:20201023T223000
DTSTAMP:20260424T051416
CREATED:20201001T144125Z
LAST-MODIFIED:20201002T121928Z
UID:140045-1603479600-1603492200@veronews.com
SUMMARY:Comedy Zone
DESCRIPTION:Riverside’s showcase of professional comedians touring the comedy circuit takes the Waxlax Stage. Comedians are: Al Romas and Catherine Maloney. Local musicians play the Live in the Loop Outdoor Stage on Friday and Saturday. Bands are: Collins & Company (Friday) and Uproot Hootenanny (Saturday).
URL:https://veronews.com/event/comedy-zone-34/
LOCATION:Riverside Theatre\, 3250 Riverside Park Dr.\, Vero Beach\, FL\, 32963\, United States
CATEGORIES:Entertainment
ORGANIZER;CN="Riverside Theatre":MAILTO:tix@riversidetheatre.com
END:VEVENT
BEGIN:VEVENT
DTSTART;TZID=America/New_York:20201024T190000
DTEND;TZID=America/New_York:20201024T223000
DTSTAMP:20260424T051416
CREATED:20201001T144215Z
LAST-MODIFIED:20201002T121919Z
UID:140048-1603566000-1603578600@veronews.com
SUMMARY:Comedy Zone
DESCRIPTION:Riverside’s showcase of professional comedians touring the comedy circuit takes the Waxlax Stage. Comedians are: Al Romas and Catherine Maloney. Local musicians play the Live in the Loop Outdoor Stage on Friday and Saturday. Bands are: Collins & Company (Friday) and Uproot Hootenanny (Saturday).
URL:https://veronews.com/event/comedy-zone-33/
LOCATION:Riverside Theatre\, 3250 Riverside Park Dr.\, Vero Beach\, FL\, 32963\, United States
CATEGORIES:Entertainment
ORGANIZER;CN="Riverside Theatre":MAILTO:tix@riversidetheatre.com
END:VEVENT
BEGIN:VEVENT
DTSTART;TZID=America/New_York:20201030T190000
DTEND;TZID=America/New_York:20201030T223000
DTSTAMP:20260424T051416
CREATED:20201001T144336Z
LAST-MODIFIED:20201002T121910Z
UID:140051-1604084400-1604097000@veronews.com
SUMMARY:Comedy Zone
DESCRIPTION:Riverside’s showcase of professional comedians touring the comedy circuit takes the Waxlax Stage. Comedians are: Norm Stulz and Al Aprill. Local musicians play the Live in the Loop Outdoor Stage on Friday and Saturday. Bands are: Radio Days (Friday and The Mighty Flea Circus (Saturday).
URL:https://veronews.com/event/comedy-zone-32/
LOCATION:Riverside Theatre\, 3250 Riverside Park Dr.\, Vero Beach\, FL\, 32963\, United States
CATEGORIES:Entertainment
ORGANIZER;CN="Riverside Theatre":MAILTO:tix@riversidetheatre.com
END:VEVENT
BEGIN:VEVENT
DTSTART;TZID=America/New_York:20201031T190000
DTEND;TZID=America/New_York:20201031T223000
DTSTAMP:20260424T051416
CREATED:20201001T144423Z
LAST-MODIFIED:20201002T121858Z
UID:140054-1604170800-1604183400@veronews.com
SUMMARY:Comedy Zone
DESCRIPTION:Riverside’s showcase of professional comedians touring the comedy circuit takes the Waxlax Stage. Comedians are: Norm Stulz and Al Aprill. Local musicians play the Live in the Loop Outdoor Stage on Friday and Saturday. Bands are: Radio Days (Friday and The Mighty Flea Circus (Saturday).
URL:https://veronews.com/event/comedy-zone-31/
LOCATION:Riverside Theatre\, 3250 Riverside Park Dr.\, Vero Beach\, FL\, 32963\, United States
CATEGORIES:Entertainment
ORGANIZER;CN="Riverside Theatre":MAILTO:tix@riversidetheatre.com
END:VEVENT
BEGIN:VEVENT
DTSTART;TZID=America/New_York:20201219T160000
DTEND;TZID=America/New_York:20201219T170000
DTSTAMP:20260424T051416
CREATED:20201118T205846Z
LAST-MODIFIED:20201118T205846Z
UID:142205-1608393600-1608397200@veronews.com
SUMMARY:"A Jazzin' Christmas"
DESCRIPTION:The third annual Have Piano will Duel concert presents “A Jazzin’ Christmas” on December 19\, 2020 at 4PM. Music Director\, Dr. Jacob Craig will lead gifted students through an intensive jazz workshop in the morning and perform Christmas standards spiced with a helping of jazz that evening. “A Jazzin’ Christmas” promises to be the perfect holiday recipe. The concert will be held on Saturday\, December 19th at 4PM at The First Presbyterian Church of Vero Beach\, 520 Royal Palm Blvd. The show is free and a $10 donation is suggested. Seating is limited\, so reservations are available at verovinofestival.com. Email havepianowillduel@gmail.com or call (772) 538 1181 for information.
URL:https://veronews.com/event/a-jazzin-christmas/
LOCATION:First Presbyterian Church of Vero Beach\, 520 Royal Palm Blvd.\, Vero Beach\,  520 Royal Palm Blvd.\, Vero Beach\, FL\, United States
CATEGORIES:Entertainment
ORGANIZER;CN="Have Piano will Duel":MAILTO:havepianowillduel@gmail.com
END:VEVENT
BEGIN:VEVENT
DTSTART;TZID=America/New_York:20201231T210000
DTEND;TZID=America/New_York:20210101T000000
DTSTAMP:20260424T051416
CREATED:20201227T034925Z
LAST-MODIFIED:20201227T034925Z
UID:144086-1609448400-1609459200@veronews.com
SUMMARY:New Year's Eve at The Backbeat Music Parlor
DESCRIPTION:Dave Scott & Tumbleweek perform live at the Backbeat Music Parlor on New Year’s Eve. Tickets on sale now. Price includes food and champagne toast. Dance all night in the best up-scale live music venue Vero Beach has to offer. Call for more info or to make a reservation.
URL:https://veronews.com/event/new-years-eve-at-the-backbeat-music-parlor/
LOCATION:Backbeat Music_Parlor\, 3005 Aviation Blvd\, Vero Beach\, FL\, 32960\, United States
CATEGORIES:Entertainment
ORGANIZER;CN="Backbeat MusicParlor":MAILTO:kathy@riversidecigarbar.com
END:VEVENT
BEGIN:VEVENT
DTSTART;TZID=America/New_York:20221203T190000
DTEND;TZID=America/New_York:20221203T210000
DTSTAMP:20260424T051416
CREATED:20221112T010231Z
LAST-MODIFIED:20221112T010231Z
UID:178827-1670094000-1670101200@veronews.com
SUMMARY:Tony Sands - Sinatra Musical
DESCRIPTION:Tony Sands – Sinatra Musical\nSaturday\, Dec. 3\, 7 p.m.\nTony Sands starring in Sinatra’ Musical. A musical journey of the life\, times and music of Sinatra’s songbook.\nTickets may be purchased online or in-person at the Emerson Center Box Office. During season\, the Emerson Center Box Office will be open on Tuesdays and Thursdays from 10:00 a.m. to 1:00 p.m. \nTickets: TheEmersonCenter.com\n(772) 778-5249
URL:https://veronews.com/event/tony-sands-sinatra-musical/
LOCATION:FL
CATEGORIES:Entertainment
ATTACH;FMTTYPE=image/jpeg:https://veronews.com/wp-content/uploads/2022/11/frank-sinatra-tony-sands-1.jpeg
ORGANIZER;CN="The Emerson Center":MAILTO:marketing@theemersoncenter.com
END:VEVENT
BEGIN:VEVENT
DTSTART;TZID=America/New_York:20221208T180000
DTEND;TZID=America/New_York:20221208T210000
DTSTAMP:20260424T051416
CREATED:20221115T165638Z
LAST-MODIFIED:20221128T210016Z
UID:179224-1670522400-1670533200@veronews.com
SUMMARY:Christmas 1945 Home
DESCRIPTION:Walk through a Christmas-themed adventure set at the end of World War II. Experience the reckless gamble of a solder returning from victory only to risk it all. \nChoose from one of eight nights\, December 8-11 and 15-18. Journeys begin every 12 minutes between 6 and 9 o’clock each evening and take about an hour. This is a walking journey\, so guests should be ambulatory. \nExperience has shown that the first week is much less crowded. The event is free and no reservations are required. But you can get a start time reservation in order to secure a certain time slot by going to https://www.christmas1945.com
URL:https://veronews.com/event/christmas-1945-home/
LOCATION:King’s Baptist Church\, 3235 58th Avenue\, Vero Beach\, FL\, 32966\, United States
CATEGORIES:Entertainment
ATTACH;FMTTYPE=image/jpeg:https://veronews.com/wp-content/uploads/2022/11/Name-only.jpg
ORGANIZER;CN="King's Baptist Church":MAILTO:office@kingsbaptist.org
END:VEVENT
BEGIN:VEVENT
DTSTART;TZID=America/New_York:20221209T180000
DTEND;TZID=America/New_York:20221209T210000
DTSTAMP:20260424T051416
CREATED:20221115T165847Z
LAST-MODIFIED:20221128T210113Z
UID:179227-1670608800-1670619600@veronews.com
SUMMARY:Christmas 1945 Home
DESCRIPTION:Walk through a Christmas-themed adventure set at the end of World War II. Experience the reckless gamble of a solder returning from victory only to risk it all. \nChoose from one of eight nights\, December 8-11 and 15-18. Journeys begin every 12 minutes between 6 and 9 o’clock each evening and take about an hour. This is a walking journey\, so guests should be ambulatory. \nExperience has shown that the first week is much less crowded. The event is free and no reservations are required. But you can get a start time reservation in order to secure a certain time slot by going to https://www.christmas1945.com
URL:https://veronews.com/event/christmas-1945-home-4/
LOCATION:King’s Baptist Church\, 3235 58th Avenue\, Vero Beach\, FL\, 32966\, United States
CATEGORIES:Entertainment
ATTACH;FMTTYPE=image/jpeg:https://veronews.com/wp-content/uploads/2022/11/Name-only-1.jpg
ORGANIZER;CN="King's Baptist Church":MAILTO:office@kingsbaptist.org
END:VEVENT
BEGIN:VEVENT
DTSTART;TZID=America/New_York:20221209T190000
DTEND;TZID=America/New_York:20221209T213000
DTSTAMP:20260424T051416
CREATED:20221112T010337Z
LAST-MODIFIED:20221112T010337Z
UID:178898-1670612400-1670621400@veronews.com
SUMMARY:H.A.L.O.'s Masquerade Fur Ball
DESCRIPTION:Join H.A.L.O. on Friday\, December 9th at Cobalt at 7:00 pm for a magical evening celebrating 16 years of no-kill rescue!\nEnjoy an unforgettable night alongside adoptable animals\, a silent and live auction\, and of course lots of entertainment!\nThe 4-course menu has been carefully crafted to delight the taste buds and an open bar will be provided to all guests.\nThis is a formal evening wear event\, including masks. We are excited to see all our rescue friends in their favorite masquerade attire!\nFor more information and to purchase tickets\, visit: www.halorescuefl.org/furball/
URL:https://veronews.com/event/h-a-l-o-s-masquerade-fur-ball/
LOCATION:Cobalt at the Kimpton Vero Beach Hotel\, 3500 Ocean Drive\, Vero Beach\, FL\, 32963\, United States
CATEGORIES:Community,Entertainment,Fundraiser
END:VEVENT
BEGIN:VEVENT
DTSTART;TZID=America/New_York:20221210T180000
DTEND;TZID=America/New_York:20221210T210000
DTSTAMP:20260424T051416
CREATED:20221115T165952Z
LAST-MODIFIED:20221128T210047Z
UID:179230-1670695200-1670706000@veronews.com
SUMMARY:Christmas 1945 Home
DESCRIPTION:Walk through a Christmas-themed adventure set at the end of World War II. Experience the reckless gamble of a solder returning from victory only to risk it all. \nChoose from one of eight nights\, December 8-11 and 15-18. Journeys begin every 12 minutes between 6 and 9 o’clock each evening and take about an hour. This is a walking journey\, so guests should be ambulatory. \nExperience has shown that the first week is much less crowded. The event is free and no reservations are required. But you can get a start time reservation in order to secure a certain time slot by going to https://www.christmas1945.com
URL:https://veronews.com/event/christmas-1945-home-2/
LOCATION:King’s Baptist Church\, 3235 58th Avenue\, Vero Beach\, FL\, 32966\, United States
CATEGORIES:Entertainment
ATTACH;FMTTYPE=image/jpeg:https://veronews.com/wp-content/uploads/2022/11/Name-only-2.jpg
ORGANIZER;CN="King's Baptist Church":MAILTO:office@kingsbaptist.org
END:VEVENT
BEGIN:VEVENT
DTSTART;TZID=America/New_York:20221211T180000
DTEND;TZID=America/New_York:20221211T210000
DTSTAMP:20260424T051416
CREATED:20221115T171136Z
LAST-MODIFIED:20221128T210212Z
UID:179248-1670781600-1670792400@veronews.com
SUMMARY:Christmas 1945 Home
DESCRIPTION:Walk through a Christmas-themed adventure set at the end of World War II. Experience the reckless gamble of a solder returning from victory only to risk it all. \nChoose from one of eight nights\, December 8-11 and 15-18. Journeys begin every 12 minutes between 6 and 9 o’clock each evening and take about an hour. This is a walking journey\, so guests should be ambulatory. \nExperience has shown that the first week is much less crowded. The event is free and no reservations are required. But you can get a start time reservation in order to secure a certain time slot by going to https://www.christmas1945.com
URL:https://veronews.com/event/christmas-1945-home-9/
LOCATION:King’s Baptist Church\, 3235 58th Avenue\, Vero Beach\, FL\, 32966\, United States
CATEGORIES:Entertainment
ATTACH;FMTTYPE=image/jpeg:https://veronews.com/wp-content/uploads/2022/11/Name-only-8.jpg
ORGANIZER;CN="King's Baptist Church":MAILTO:office@kingsbaptist.org
END:VEVENT
BEGIN:VEVENT
DTSTART;TZID=America/New_York:20221212T180000
DTEND;TZID=America/New_York:20221212T210000
DTSTAMP:20260424T051416
CREATED:20221115T170231Z
LAST-MODIFIED:20221128T210124Z
UID:179233-1670868000-1670878800@veronews.com
SUMMARY:Christmas 1945 Home
DESCRIPTION:Walk through a Christmas-themed adventure set at the end of World War II. Experience the reckless gamble of a solder returning from victory only to risk it all. \nChoose from one of eight nights\, December 8-11 and 15-18. Journeys begin every 12 minutes between 6 and 9 o’clock each evening and take about an hour. This is a walking journey\, so guests should be ambulatory. \nExperience has shown that the first week is much less crowded. The event is free and no reservations are required. But you can get a start time reservation in order to secure a certain time slot by going to https://www.christmas1945.com
URL:https://veronews.com/event/christmas-1945-home-5/
LOCATION:King’s Baptist Church\, 3235 58th Avenue\, Vero Beach\, FL\, 32966\, United States
CATEGORIES:Entertainment
ATTACH;FMTTYPE=image/jpeg:https://veronews.com/wp-content/uploads/2022/11/Name-only-3.jpg
ORGANIZER;CN="King's Baptist Church":MAILTO:office@kingsbaptist.org
END:VEVENT
BEGIN:VEVENT
DTSTART;TZID=America/New_York:20221215T180000
DTEND;TZID=America/New_York:20221215T210000
DTSTAMP:20260424T051416
CREATED:20221115T170335Z
LAST-MODIFIED:20221128T210054Z
UID:179236-1671127200-1671138000@veronews.com
SUMMARY:Christmas 1945 Home
DESCRIPTION:Walk through a Christmas-themed adventure set at the end of World War II. Experience the reckless gamble of a solder returning from victory only to risk it all. \nChoose from one of eight nights\, December 8-11 and 15-18. Journeys begin every 12 minutes between 6 and 9 o’clock each evening and take about an hour. This is a walking journey\, so guests should be ambulatory. \nExperience has shown that the first week is much less crowded. The event is free and no reservations are required. But you can get a start time reservation in order to secure a certain time slot by going to https://www.christmas1945.com
URL:https://veronews.com/event/christmas-1945-home-3/
LOCATION:King’s Baptist Church\, 3235 58th Avenue\, Vero Beach\, FL\, 32966\, United States
CATEGORIES:Entertainment
ATTACH;FMTTYPE=image/jpeg:https://veronews.com/wp-content/uploads/2022/11/Name-only-4.jpg
ORGANIZER;CN="King's Baptist Church":MAILTO:office@kingsbaptist.org
END:VEVENT
BEGIN:VEVENT
DTSTART;TZID=America/New_York:20221216T180000
DTEND;TZID=America/New_York:20221216T210000
DTSTAMP:20260424T051416
CREATED:20221115T170623Z
LAST-MODIFIED:20221128T210142Z
UID:179239-1671213600-1671224400@veronews.com
SUMMARY:Christmas 1945 Home
DESCRIPTION:Walk through a Christmas-themed adventure set at the end of World War II. Experience the reckless gamble of a solder returning from victory only to risk it all. \nChoose from one of eight nights\, December 8-11 and 15-18. Journeys begin every 12 minutes between 6 and 9 o’clock each evening and take about an hour. This is a walking journey\, so guests should be ambulatory. \nExperience has shown that the first week is much less crowded. The event is free and no reservations are required. But you can get a start time reservation in order to secure a certain time slot by going to https://www.christmas1945.com
URL:https://veronews.com/event/christmas-1945-home-6/
LOCATION:King’s Baptist Church\, 3235 58th Avenue\, Vero Beach\, FL\, 32966\, United States
CATEGORIES:Entertainment
ATTACH;FMTTYPE=image/jpeg:https://veronews.com/wp-content/uploads/2022/11/Name-only-5.jpg
ORGANIZER;CN="King's Baptist Church":MAILTO:office@kingsbaptist.org
END:VEVENT
BEGIN:VEVENT
DTSTART;TZID=America/New_York:20221217T180000
DTEND;TZID=America/New_York:20221217T210000
DTSTAMP:20260424T051416
CREATED:20221115T170952Z
LAST-MODIFIED:20221128T210148Z
UID:179245-1671300000-1671310800@veronews.com
SUMMARY:Christmas 1945 Home
DESCRIPTION:Walk through a Christmas-themed adventure set at the end of World War II. Experience the reckless gamble of a solder returning from victory only to risk it all. \nChoose from one of eight nights\, December 8-11 and 15-18. Journeys begin every 12 minutes between 6 and 9 o’clock each evening and take about an hour. This is a walking journey\, so guests should be ambulatory. \nExperience has shown that the first week is much less crowded. The event is free and no reservations are required. But you can get a start time reservation in order to secure a certain time slot by going to https://www.christmas1945.com
URL:https://veronews.com/event/christmas-1945-home-7/
LOCATION:King’s Baptist Church\, 3235 58th Avenue\, Vero Beach\, FL\, 32966\, United States
CATEGORIES:Entertainment
ATTACH;FMTTYPE=image/jpeg:https://veronews.com/wp-content/uploads/2022/11/Name-only-7.jpg
ORGANIZER;CN="King's Baptist Church":MAILTO:office@kingsbaptist.org
END:VEVENT
END:VCALENDAR