BEGIN:VCALENDAR
VERSION:2.0
PRODID:-//Vero News - ECPv6.15.18//NONSGML v1.0//EN
CALSCALE:GREGORIAN
METHOD:PUBLISH
X-ORIGINAL-URL:https://veronews.com
X-WR-CALDESC:Events for Vero News
REFRESH-INTERVAL;VALUE=DURATION:PT1H
X-Robots-Tag:noindex
X-PUBLISHED-TTL:PT1H
BEGIN:VTIMEZONE
TZID:America/New_York
BEGIN:DAYLIGHT
TZOFFSETFROM:-0500
TZOFFSETTO:-0400
TZNAME:EDT
DTSTART:20220313T070000
END:DAYLIGHT
BEGIN:STANDARD
TZOFFSETFROM:-0400
TZOFFSETTO:-0500
TZNAME:EST
DTSTART:20221106T060000
END:STANDARD
BEGIN:DAYLIGHT
TZOFFSETFROM:-0500
TZOFFSETTO:-0400
TZNAME:EDT
DTSTART:20230312T070000
END:DAYLIGHT
BEGIN:STANDARD
TZOFFSETFROM:-0400
TZOFFSETTO:-0500
TZNAME:EST
DTSTART:20231105T060000
END:STANDARD
BEGIN:DAYLIGHT
TZOFFSETFROM:-0500
TZOFFSETTO:-0400
TZNAME:EDT
DTSTART:20240310T070000
END:DAYLIGHT
BEGIN:STANDARD
TZOFFSETFROM:-0400
TZOFFSETTO:-0500
TZNAME:EST
DTSTART:20241103T060000
END:STANDARD
END:VTIMEZONE
BEGIN:VEVENT
DTSTART;TZID=America/New_York:20231201T173000
DTEND;TZID=America/New_York:20231201T203000
DTSTAMP:20260420T030909
CREATED:20231130T233515Z
LAST-MODIFIED:20231130T233515Z
UID:194968-1701451800-1701462600@veronews.com
SUMMARY:Holiday Bazaar Opening at the Sebastian River Art Club's Gallery - a participant in Sebastian's Light-Up Night.
DESCRIPTION:Friday\, December 1\, 2023 – 5:30 to 8:30 pm as a participant of Sebastian’s Light-Up Night Event at The Sebastian River Art Club’s Gallery\, 1245 Main Street\, Sebastian\, FL \n– Free Photo Booth with Props for both children and adults.\n– Light Refreshments\n– Children’s Raffle Baskets.
URL:https://veronews.com/event/holiday-bazaar-opening-at-the-sebastian-river-art-clubs-gallery-a-participant-in-sebastians-light-up-night/
LOCATION:1245 Main Street\, Sebastian\, FL 32958\, 1245 Main Street\, Sebastian\, FL\, 32958\, United States
CATEGORIES:Community,Entertainment
ORGANIZER;CN="Sebastian River Art Club":MAILTO:Sracclub@gmail.com
END:VEVENT
END:VCALENDAR