BEGIN:VCALENDAR
VERSION:2.0
PRODID:-//Vero News - ECPv6.15.18//NONSGML v1.0//EN
CALSCALE:GREGORIAN
METHOD:PUBLISH
X-ORIGINAL-URL:https://veronews.com
X-WR-CALDESC:Events for Vero News
REFRESH-INTERVAL;VALUE=DURATION:PT1H
X-Robots-Tag:noindex
X-PUBLISHED-TTL:PT1H
BEGIN:VTIMEZONE
TZID:America/New_York
BEGIN:DAYLIGHT
TZOFFSETFROM:-0500
TZOFFSETTO:-0400
TZNAME:EDT
DTSTART:20220313T070000
END:DAYLIGHT
BEGIN:STANDARD
TZOFFSETFROM:-0400
TZOFFSETTO:-0500
TZNAME:EST
DTSTART:20221106T060000
END:STANDARD
BEGIN:DAYLIGHT
TZOFFSETFROM:-0500
TZOFFSETTO:-0400
TZNAME:EDT
DTSTART:20230312T070000
END:DAYLIGHT
BEGIN:STANDARD
TZOFFSETFROM:-0400
TZOFFSETTO:-0500
TZNAME:EST
DTSTART:20231105T060000
END:STANDARD
BEGIN:DAYLIGHT
TZOFFSETFROM:-0500
TZOFFSETTO:-0400
TZNAME:EDT
DTSTART:20240310T070000
END:DAYLIGHT
BEGIN:STANDARD
TZOFFSETFROM:-0400
TZOFFSETTO:-0500
TZNAME:EST
DTSTART:20241103T060000
END:STANDARD
END:VTIMEZONE
BEGIN:VEVENT
DTSTART;TZID=America/New_York:20231103T170000
DTEND;TZID=America/New_York:20231103T190000
DTSTAMP:20260419T143709
CREATED:20230907T165418Z
LAST-MODIFIED:20231009T154607Z
UID:191953-1699030800-1699038000@veronews.com
SUMMARY:Deb Gooch Memorial Show
DESCRIPTION:Center for Spiritual Care is the host of the Deb Gooch Memorial Art Show to benefit the Deb Gooch Scholarship fund. This Scholarship will be run thru the Vero Beach Art Club. Deb was a local artist\, loved for her colorful abstracts\, often including ravens. The show runs from November 2nd to December 29th. There will be an Reception during Gallery Stroll “First Friday” 5-7pm\, November 2nd and again on Dec 1st. Center for Spiritual Care is located downtown at 1550 24th St. www.centerforspiritualcare.org 772-567-1233
URL:https://veronews.com/event/deb-gooch-memorial-show/
LOCATION:Center for Spiritual Care\, 1550 24th Street\, Vero Beach\, FL\, 32966\, United States
CATEGORIES:Entertainment
END:VEVENT
BEGIN:VEVENT
DTSTART;TZID=America/New_York:20231106T093000
DTEND;TZID=America/New_York:20231106T110000
DTSTAMP:20260419T143709
CREATED:20231027T103247Z
LAST-MODIFIED:20231027T103247Z
UID:194025-1699263000-1699268400@veronews.com
SUMMARY:AAUW Book Review Breakfast: Can Anyone Live on the Minimum Wage?
DESCRIPTION:Millions of Americans work full time\, year-round\, for poverty-level wages. Welfare-reform rhetoric promises that a job—any job—can be the ticket to a better life. In 1998\, journalist Barbara Ehrenreich decided see if that was true. She left her home\, took the cheapest lodgings she could find\, and accepted whatever jobs she was offered. \nNickel and Dimed is the result of her experience. On Monday\, Nov. 6\, Matt Tanner will review Nickel and Dimed: On (Not) Getting by in America\, as the local branch of the American Association of University Women (AAUW) kicks off its 2023-24 season of monthly Book Review Breakfasts at 9:30am in the Richardson Center of the Vero Beach campus of Indian River State College\, 6155 College Lane. \nAs Executive Director of United Against Poverty (UP)\, Tanner is well-qualified to address whether Ehrenreich’s findings are true today\, 25 years later\, here in Indian River County\, where the minimum wage is now $12/hour and the cheapest one-bedroom apartment may be more than $1000/month. UP-Indian River County seeks to serve those in poverty by providing crisis care\, food/household subsidy\, employment training and placement\, and more. \nThe Book Review Breakfast is free and open to the public\, although donations of new or gently used children’s books are encouraged. The books are used to stock the local AAUW’s four “Little Free Libraries” for children in the community. \nAAUW-Vero Beach is a 501(c)3 charitable organization\, whose purpose is to advance equity for women and girls through advocacy\, education\, and research. We support scholarships\, grants and programs for women and girls in Indian River County.
URL:https://veronews.com/event/aauw-book-review-breakfast-can-anyone-live-on-the-minimum-wage/
LOCATION:indian river state college mueller center\, 6155 College Lane\, Vero Beach\, 32966\, United States
CATEGORIES:Entertainment
ORGANIZER;CN="AAUW":MAILTO:dianesattler@hotmail.com
END:VEVENT
BEGIN:VEVENT
DTSTART;TZID=America/New_York:20231130T190000
DTEND;TZID=America/New_York:20231130T200000
DTSTAMP:20260419T143709
CREATED:20231130T233305Z
LAST-MODIFIED:20231130T233305Z
UID:195088-1701370800-1701374400@veronews.com
SUMMARY:IRCHS Choir and Orchestra to present Seasonal Favorites
DESCRIPTION:November 20\, 2023\, VERO BEACH – On Thursday\, November 30\, 2023\, at 7:00pm\, St. John of the Cross Catholic Church will host the Indian River Charter High School Music Department for their 2023 Seasonal Selections Choir and Orchestra concert. The performance will be held in the sanctuary at 7590 26th Street in Vero Beach. This event is free to the community; a $10 donation is suggested.\nThe Indian River Charter High School has a rich history of being known for award-winning\, high quality musical ensembles. This concert will be no exception with choirs led by Ethan Kinkle and orchestra directed by Kyle Carter. Selections will include seasonal favorites both old and new\, including new twists on some holiday classics. Accompaniment is provided by Joanne Knott and Ryan Kasten. The doors will open at 6:30 pm. Come early for a good seat as IRCHS concert audiences tend to fill up quickly. The performance will begin at 7:00 pm.\nFor more information\, please contact Ryan Kasten\, Director of Music Ministries at St. John of the Cross\, at (772) 584-9744 or kasfsu@gmail.com.
URL:https://veronews.com/event/irchs-choir-and-orchestra-to-present-seasonal-favorites/
LOCATION:St. John of the Cross Catholic Church\, 7590 26th St\, Vero Beach\, FL\, 32966\, United States
CATEGORIES:Community,Entertainment
ORGANIZER;CN="Ryan Kasten":MAILTO:Kasfsu@gmail.com
END:VEVENT
END:VCALENDAR