BEGIN:VCALENDAR
VERSION:2.0
PRODID:-//Vero News - ECPv6.15.18//NONSGML v1.0//EN
CALSCALE:GREGORIAN
METHOD:PUBLISH
X-ORIGINAL-URL:https://veronews.com
X-WR-CALDESC:Events for Vero News
REFRESH-INTERVAL;VALUE=DURATION:PT1H
X-Robots-Tag:noindex
X-PUBLISHED-TTL:PT1H
BEGIN:VTIMEZONE
TZID:America/New_York
BEGIN:DAYLIGHT
TZOFFSETFROM:-0500
TZOFFSETTO:-0400
TZNAME:EDT
DTSTART:20250309T070000
END:DAYLIGHT
BEGIN:STANDARD
TZOFFSETFROM:-0400
TZOFFSETTO:-0500
TZNAME:EST
DTSTART:20251102T060000
END:STANDARD
BEGIN:DAYLIGHT
TZOFFSETFROM:-0500
TZOFFSETTO:-0400
TZNAME:EDT
DTSTART:20260308T070000
END:DAYLIGHT
BEGIN:STANDARD
TZOFFSETFROM:-0400
TZOFFSETTO:-0500
TZNAME:EST
DTSTART:20261101T060000
END:STANDARD
BEGIN:DAYLIGHT
TZOFFSETFROM:-0500
TZOFFSETTO:-0400
TZNAME:EDT
DTSTART:20270314T070000
END:DAYLIGHT
BEGIN:STANDARD
TZOFFSETFROM:-0400
TZOFFSETTO:-0500
TZNAME:EST
DTSTART:20271107T060000
END:STANDARD
END:VTIMEZONE
BEGIN:VEVENT
DTSTART;TZID=America/New_York:20260228T100000
DTEND;TZID=America/New_York:20260228T160000
DTSTAMP:20260421T014427
CREATED:20260209T175527Z
LAST-MODIFIED:20260209T175527Z
UID:228127-1772272800-1772294400@veronews.com
SUMMARY:HOMECOMING End-of-Life Festival by Floradoula
DESCRIPTION:Homecoming End-of-Life Festival is a one-day event bringing together Florida’s brightest minds in end-of-life care for discussion\, education\, and networking. The featured speaker is Suzanne B. O’Brien\, the international bestselling author of The Good Death. Suzanne will speakon “Death as a Sacred Experience” in a should-centered teaching for those seeking a deeper relationship with life and death. Death is not a medical crisis; it’s a natural end to the cycle of life. Suzanne will be reading\, taking your questions\, and signing copies of her incredible book! Reserve your copy when you register! Floradoula LLC is an end-of-life doula practice helping patients and families learn about and navigate the myriad decisions and plans needed to prepare for the best possible end-of-life care. Festival attendees choose to attend short workshops on water cremation\, natural burial\, sound healing\, preparing for death with ancient wisdom\, and more. Please direct and questions to: 772-202-2421. Register using the link provided below. Vendors interested in participating should write to floradoulallc@gmail.com.
URL:https://veronews.com/event/homecoming-end-of-life-festival-by-floradoula/
LOCATION:Center for Spiritual Care\, 1550 24th Street\, Vero Beach\, FL\, 32966\, United States
CATEGORIES:Community
ATTACH;FMTTYPE=image/png:https://veronews.com/wp-content/uploads/2026/01/Homecoming-Header.png
ORGANIZER;CN="Floradoula LLC":MAILTO:floradoulallc@gmail.com
END:VEVENT
END:VCALENDAR