BEGIN:VCALENDAR
VERSION:2.0
PRODID:-//Vero News - ECPv6.15.18//NONSGML v1.0//EN
CALSCALE:GREGORIAN
METHOD:PUBLISH
X-ORIGINAL-URL:https://veronews.com
X-WR-CALDESC:Events for Vero News
REFRESH-INTERVAL;VALUE=DURATION:PT1H
X-Robots-Tag:noindex
X-PUBLISHED-TTL:PT1H
BEGIN:VTIMEZONE
TZID:America/New_York
BEGIN:DAYLIGHT
TZOFFSETFROM:-0500
TZOFFSETTO:-0400
TZNAME:EDT
DTSTART:20210314T070000
END:DAYLIGHT
BEGIN:STANDARD
TZOFFSETFROM:-0400
TZOFFSETTO:-0500
TZNAME:EST
DTSTART:20211107T060000
END:STANDARD
BEGIN:DAYLIGHT
TZOFFSETFROM:-0500
TZOFFSETTO:-0400
TZNAME:EDT
DTSTART:20220313T070000
END:DAYLIGHT
BEGIN:STANDARD
TZOFFSETFROM:-0400
TZOFFSETTO:-0500
TZNAME:EST
DTSTART:20221106T060000
END:STANDARD
BEGIN:DAYLIGHT
TZOFFSETFROM:-0500
TZOFFSETTO:-0400
TZNAME:EDT
DTSTART:20230312T070000
END:DAYLIGHT
BEGIN:STANDARD
TZOFFSETFROM:-0400
TZOFFSETTO:-0500
TZNAME:EST
DTSTART:20231105T060000
END:STANDARD
END:VTIMEZONE
BEGIN:VEVENT
DTSTART;TZID=America/New_York:20221122T180000
DTEND;TZID=America/New_York:20221122T193000
DTSTAMP:20260420T143346
CREATED:20221112T005944Z
LAST-MODIFIED:20221112T005944Z
UID:178804-1669140000-1669145400@veronews.com
SUMMARY:Friends of St. Sebastian River Meeting
DESCRIPTION:Not Your Father’s Stormwater Pond! \nAlexis Peralta\, IR County Stormwater Educator & Fertilizer Enforcement Officer will join the Friends of St. Sebastian River this month for a presentation on the County’s stormwater facilities which attract more than just wildlife! They are a popular attraction with nature lovers\, as well\, while effectively cleaning stormwater. \nLearn about the different ways Indian River County is filtering local stormwater from their Main Relief Screening System to their Algal Turf Scrubber at Egret Marsh Stormwater Park and more. Since 2008\, the County has treated stormwater in new and innovative ways that other areas still have yet to replicate. The Stormwater Parks not only filter stormwater but create new wetland habitats to preserve biodiversity and natural Florida ecosystems. \nThe meeting is Tuesday\, November 22nd\, 6pm at the North Indian River County Library\, 1001 Sebastian Blvd. in Sebastian and all are welcome to attend. For more information visit www.fssr.org or call 772-202-0501.
URL:https://veronews.com/event/friends-of-st-sebastian-river-meeting-2/
LOCATION:North Indian River County Library\, 1001 Sebastian Blvd\, Sebastian\, Florida\, 32958
CATEGORIES:Community
ATTACH;FMTTYPE=image/jpeg:https://veronews.com/wp-content/uploads/2022/11/Logan-Spoonbill3-scaled.jpg
ORGANIZER;CN="Friends of St. Sebastian River":MAILTO:info@fssr.org
END:VEVENT
END:VCALENDAR