BEGIN:VCALENDAR
VERSION:2.0
PRODID:-//Vero News - ECPv6.15.18//NONSGML v1.0//EN
CALSCALE:GREGORIAN
METHOD:PUBLISH
X-WR-CALNAME:Vero News
X-ORIGINAL-URL:https://veronews.com
X-WR-CALDESC:Events for Vero News
REFRESH-INTERVAL;VALUE=DURATION:PT1H
X-Robots-Tag:noindex
X-PUBLISHED-TTL:PT1H
BEGIN:VTIMEZONE
TZID:America/New_York
BEGIN:DAYLIGHT
TZOFFSETFROM:-0500
TZOFFSETTO:-0400
TZNAME:EDT
DTSTART:20190310T070000
END:DAYLIGHT
BEGIN:STANDARD
TZOFFSETFROM:-0400
TZOFFSETTO:-0500
TZNAME:EST
DTSTART:20191103T060000
END:STANDARD
BEGIN:DAYLIGHT
TZOFFSETFROM:-0500
TZOFFSETTO:-0400
TZNAME:EDT
DTSTART:20200308T070000
END:DAYLIGHT
BEGIN:STANDARD
TZOFFSETFROM:-0400
TZOFFSETTO:-0500
TZNAME:EST
DTSTART:20201101T060000
END:STANDARD
BEGIN:DAYLIGHT
TZOFFSETFROM:-0500
TZOFFSETTO:-0400
TZNAME:EDT
DTSTART:20210314T070000
END:DAYLIGHT
BEGIN:STANDARD
TZOFFSETFROM:-0400
TZOFFSETTO:-0500
TZNAME:EST
DTSTART:20211107T060000
END:STANDARD
END:VTIMEZONE
BEGIN:VEVENT
DTSTART;TZID=America/New_York:20200525T120000
DTEND;TZID=America/New_York:20200525T143000
DTSTAMP:20260419T141353
CREATED:20200205T181828Z
LAST-MODIFIED:20200205T181828Z
UID:125882-1590408000-1590417000@veronews.com
SUMMARY:Monday Matinee Movies
DESCRIPTION:Join us for blockbuster hits for adults the last Monday of the month @ 12;00 PM. Free and open to the public. No registration is required. Please call Hollie @ 772-226-3080 ext. 4550 for more information.
URL:https://veronews.com/event/monday-matinee-movies-3/
LOCATION:Brackett Library\, 6155 College Lane\, Vero Beach\, FL\, 32960
CATEGORIES:Community
ORGANIZER;CN="Brackett Library":MAILTO:hmcdougall@irclibrary.org
END:VEVENT
END:VCALENDAR