BEGIN:VCALENDAR
VERSION:2.0
PRODID:-//Vero News - ECPv6.15.18//NONSGML v1.0//EN
CALSCALE:GREGORIAN
METHOD:PUBLISH
X-ORIGINAL-URL:https://veronews.com
X-WR-CALDESC:Events for Vero News
REFRESH-INTERVAL;VALUE=DURATION:PT1H
X-Robots-Tag:noindex
X-PUBLISHED-TTL:PT1H
BEGIN:VTIMEZONE
TZID:America/New_York
BEGIN:DAYLIGHT
TZOFFSETFROM:-0500
TZOFFSETTO:-0400
TZNAME:EDT
DTSTART:20250309T070000
END:DAYLIGHT
BEGIN:STANDARD
TZOFFSETFROM:-0400
TZOFFSETTO:-0500
TZNAME:EST
DTSTART:20251102T060000
END:STANDARD
BEGIN:DAYLIGHT
TZOFFSETFROM:-0500
TZOFFSETTO:-0400
TZNAME:EDT
DTSTART:20260308T070000
END:DAYLIGHT
BEGIN:STANDARD
TZOFFSETFROM:-0400
TZOFFSETTO:-0500
TZNAME:EST
DTSTART:20261101T060000
END:STANDARD
BEGIN:DAYLIGHT
TZOFFSETFROM:-0500
TZOFFSETTO:-0400
TZNAME:EDT
DTSTART:20270314T070000
END:DAYLIGHT
BEGIN:STANDARD
TZOFFSETFROM:-0400
TZOFFSETTO:-0500
TZNAME:EST
DTSTART:20271107T060000
END:STANDARD
END:VTIMEZONE
BEGIN:VEVENT
DTSTART;TZID=America/New_York:20260316T193000
DTEND;TZID=America/New_York:20260316T214500
DTSTAMP:20260421T120250
CREATED:20250712T113252Z
LAST-MODIFIED:20250712T113252Z
UID:219160-1773689400-1773697500@veronews.com
SUMMARY:Academy of St Martin in the Fields
DESCRIPTION:Guarantee yourself the best seats in a sell-out concert to hear the exquisite violin playing of celebrated violinist Joshua Bell with the Academy of St Martin in the Fields.  This season\, Bell will give us the Violin Concerto No. 3 in B Minor by Saint-Saëns as his featured solo. \nJoshua Bell\, Director and Violin Soloist \nPROGRAM:\nCamille Saint-Saëns: Violin Concerto No. 3 in B Minor\, Op. 61\nRobert Schumann: Symphony No. 1 in Bb Major\, Op. 38 “Spring”
URL:https://veronews.com/event/academy-of-st-martin-in-the-fields/
LOCATION:Community Church of Vero Beach\, 1901 23rd Street\, Vero Beach\, FL\, 32960\, United States
CATEGORIES:Entertainment
ATTACH;FMTTYPE=image/jpeg:https://veronews.com/wp-content/uploads/2025/06/ASMF-with-JB-043-Photo-Benjamin-Ealovega-cropped-scaled.jpg
ORGANIZER;CN="Indian River Symphonic Association":MAILTO:info@irsymphonic.org
END:VEVENT
END:VCALENDAR