BEGIN:VCALENDAR
VERSION:2.0
PRODID:-//Vero News - ECPv6.15.18//NONSGML v1.0//EN
CALSCALE:GREGORIAN
METHOD:PUBLISH
X-WR-CALNAME:Vero News
X-ORIGINAL-URL:https://veronews.com
X-WR-CALDESC:Events for Vero News
REFRESH-INTERVAL;VALUE=DURATION:PT1H
X-Robots-Tag:noindex
X-PUBLISHED-TTL:PT1H
BEGIN:VTIMEZONE
TZID:America/New_York
BEGIN:DAYLIGHT
TZOFFSETFROM:-0500
TZOFFSETTO:-0400
TZNAME:EDT
DTSTART:20240310T070000
END:DAYLIGHT
BEGIN:STANDARD
TZOFFSETFROM:-0400
TZOFFSETTO:-0500
TZNAME:EST
DTSTART:20241103T060000
END:STANDARD
BEGIN:DAYLIGHT
TZOFFSETFROM:-0500
TZOFFSETTO:-0400
TZNAME:EDT
DTSTART:20250309T070000
END:DAYLIGHT
BEGIN:STANDARD
TZOFFSETFROM:-0400
TZOFFSETTO:-0500
TZNAME:EST
DTSTART:20251102T060000
END:STANDARD
BEGIN:DAYLIGHT
TZOFFSETFROM:-0500
TZOFFSETTO:-0400
TZNAME:EDT
DTSTART:20260308T070000
END:DAYLIGHT
BEGIN:STANDARD
TZOFFSETFROM:-0400
TZOFFSETTO:-0500
TZNAME:EST
DTSTART:20261101T060000
END:STANDARD
END:VTIMEZONE
BEGIN:VEVENT
DTSTART;TZID=America/New_York:20250201T100000
DTEND;TZID=America/New_York:20250622T170000
DTSTAMP:20260420T005149
CREATED:20241113T205742Z
LAST-MODIFIED:20241113T205742Z
UID:209478-1738404000-1750611600@veronews.com
SUMMARY:VBMA Exhibition: French Moderns: Monet to Matisse\, 1850 - 1950
DESCRIPTION:French Moderns: Monet to Matisse\, 1850- 1950\nFebruary 1–June 22\, 2025\nHolmes Gallery \nParis was regarded as the center of Western art in the 19th and early 20th centuries. The period’s leading artists experimented with bold\, expressive styles—Realism\, Impressionism\, Post-Impressionism\, Symbolism\, Fauvism\, Cubism\, and Surrealism. Explore this pivotal and dynamic period in art history when the internationally touring French Moderns: Monet to Matisse\, 1850- 1950 exhibition makes its first and only South/Central Florida stop at the Vero Beach Museum of Art\, February 1 through June 22. The exhibition is organized by Lisa Small\, Senior Curator of European Art\, and Richard Aste\, former Curator of European Art\, Brooklyn Museum. \nThe French Moderns exhibition features 59 paintings and sculptures from that collection\, including some of the most renowned names in Modern art— Renoir\, Matisse\, Léger\, Bonnard\, Morisot\, Chagall\, Vuillard\, and Degas. It also highlights artists like Lajos Tihanyi\, Aleksandr Yakovlev\, and Giovanni Boldini\, who settled in Paris and made significant contributions to the art scene\, each hailing from Hungary\, Russia\, and Italy\, respectively. \nEach artwork in French Moderns is displayed with a corresponding extended label that provides insight into each artist’s sensibilities and\, in many cases\, points out revolutionary aspects of their subjects\, style\, and sources of inspiration. \nFree with Museum admission. \nIMAGE CAPTION: Claude Monet (French\, 1840–1926). Rising Tide at Pourville\, (detail)\, 1882. Oil on canvas\, 26 x 32 in. (66 x 81.3cm). Brooklyn Museum\, Gift of Mrs. Horace O. Havemeyer\, 41.1260. (Photo: Brooklyn Museum) \nThis is a Weekly Recurring Event\nRuns from Feb 1\, 2025 to Jun 22\, 2025 and happens every:\nMondays: 10:00am – 4:30pm Timezone: EST\nTuesdays: 10:00am – 4:30pm Timezone: EST\nWednesdays: 10:00am – 4:30pm Timezone: EST\nThursdays: 10:00am – 4:30pm Timezone: EST\nFridays: 10:00am – 4:30pm Timezone: EST\nSaturdays: 10:00am – 4:30pm Timezone: EST\nSundays: 1:00pm – 4:00pm Timezone: EST
URL:https://veronews.com/event/vbma-exhibition-french-moderns-monet-to-matisse-1850-1950/
LOCATION:Vero Beach Museum of Art\, 3001 Riverside Park Drive\, Vero Beach\, FL\, 32963
ORGANIZER;CN="Vero Beach Museum of Art":MAILTO:sbwood@vbmuseum.org
END:VEVENT
BEGIN:VEVENT
DTSTART;TZID=America/New_York:20250210T100000
DTEND;TZID=America/New_York:20250914T163000
DTSTAMP:20260420T005149
CREATED:20241113T205654Z
LAST-MODIFIED:20241113T205654Z
UID:209619-1739181600-1757867400@veronews.com
SUMMARY:VBMA Exhibition - Well-Dressed: Artworks from the Permanent Collection
DESCRIPTION:Well-Dressed: Artworks from the Permanent Collection\nFebruary 10–September 14\, 2025\nSchumann Gallery and Titelman Gallery \nWell-Dressed: Artworks from the Permanent Collection explores the intersection of fashion\, identity\, performance\, and self-expression. The show is VBMA’s first major thematic permanent collection exhibition in recent years and brings together dozens of artworks\, some familiar and others rarely on display. \nWell-Dressed begins with portraits of individuals in various kinds of dress\, often wearing colorful garments. Some clothing items\, like the yellow dress in Joseph Stella’s painting Joy of Living\, starkly contrast with their surroundings\, while others\, such as the photograph\, Punzante by Argentinian artists Raúl Eduardo Stolkiner (known as RES) and Constanza Piaggio\, emphasize pattern and materiality\, presenting a woman adorned in a stole made entirely of wire. \nA section of the exhibition examines the concept of “collective dress\,” highlighting works that portray groups of individuals wearing similar or identical outfits or uniforms. Another section focuses on the attire of dancers\, performers\, musicians\, and actors. The final section showcases artworks that depict only clothing or accessories; pieces such as Michael Craig-Martin’s Untitled (Sunglasses) and Karen LaMonte’s Reclining Dress Absence. These function almost as surrogate portraits\, allowing viewers to imagine whom they might represent. \nThe exhibition is organized by the Vero Beach Museum of Art. \nIMAGE CAPTION: Karen LaMonte\, Reclining Dress Absence\, 2005. Cast glass\, 20 x 63 x 15 inches. Museum purchase with funds provided by the Alice and James S. Beckwith III Endowment; Mr. and Mrs. Rex L. Brophy Endowment for Acquisitions; William B. and Marcia H. Howell Endowment Fund for Collections and the Museum Acquisition Fund in celebration of the Museum’s 30th Anniversary\, 2016.2 \nThe exhibition is free with Museum admission. \nThis is a Weekly Recurring Event\nRuns from Feb 10\, 2025 to Sep 14\, 2025 and happens every:\nMondays: 10:00am – 4:30pm Timezone: EST\nTuesdays: 10:00am – 4:30pm Timezone: EST\nWednesdays: 10:00am – 4:30pm Timezone: EST\nThursdays: 10:00am – 4:30pm Timezone: EST\nFridays: 10:00am – 4:30pm Timezone: EST\nSaturdays: 10:00am – 4:30pm Timezone: EST\nSundays: 1:00pm – 4:00pm Timezone: EST
URL:https://veronews.com/event/vbma-exhibition-well-dressed-artworks-from-the-permanent-collection/
LOCATION:Vero Beach Museum of Art\, 3001 Riverside Park Drive\, Vero Beach\, FL\, 32963
ORGANIZER;CN="Vero Beach Museum of Art":MAILTO:sbwood@vbmuseum.org
END:VEVENT
BEGIN:VEVENT
DTSTART;TZID=America/New_York:20250210T100000
DTEND;TZID=America/New_York:20250831T163000
DTSTAMP:20260420T005149
CREATED:20241113T205714Z
LAST-MODIFIED:20241113T205714Z
UID:209614-1739181600-1756657800@veronews.com
SUMMARY:VBMA Exhibition - Timeless: Robert Farber’s Fashion Photography
DESCRIPTION:Timeless: Robert Farber’s Fashion Photography\nFebruary 10–August 31\, 2025\nStark Gallery \nVero Beach Museum of Art is pleased to present Timeless: Robert Farber’s Fashion Photography on view in the Stark Gallery from February 10 through August 31\, 2025. Farber (b. 1944) has lived and traveled the world as a leading force in the world of photography. \nRobert Farber’s professional practice spans commercial and fine art photography\, with subject matter ranging from fashion and portraits to still life and landscapes. The works featured in Timeless are drawn from two major bodies of work: his Vintage Fashion series\, captured during commercial shoots\, and the Deterioration series\, which consists of prints from his earlier fashion photography. These prints\, created from film that became vulnerable to heat\, humidity\, and other elements over the years\, reveal colorful and otherworldly distortions. These effects are entirely natural and reveal the beauty in the unexpected transformations of the film over time. \nTimeless brings both series together for the first time in a museum exhibition. \nThis exhibition is organized by the Vero Beach Museum of Art. \nIMAGE CAPTION: Robert Farber\, Deterioration #155\, (detail) 1982/2017. Sublimated photograph on ChromaLuxe aluminum\, 48 x 72 inches. © Robert Farber \nThe exhibition is free with Museum admission. \nThis is a Weekly Recurring Event\nRuns from Feb 10\, 2025 to Aug 31\, 2025 and happens every:\nMondays: 10:00am – 4:30pm Timezone: EST\nTuesdays: 10:00am – 4:30pm Timezone: EST\nWednesdays: 10:00am – 4:30pm Timezone: EST\nThursdays: 10:00am – 4:30pm Timezone: EST\nFridays: 10:00am – 4:30pm Timezone: EST\nSaturdays: 10:00am – 4:30pm Timezone: EST\nSundays: 1:00pm – 4:00pm Timezone: EST
URL:https://veronews.com/event/vbma-exhibition-timeless-robert-farbers-fashion-photography/
LOCATION:Vero Beach Museum of Art\, 3001 Riverside Park Drive\, Vero Beach\, FL\, 32963
ORGANIZER;CN="Vero Beach Museum of Art":MAILTO:sbwood@vbmuseum.org
END:VEVENT
BEGIN:VEVENT
DTSTART;TZID=America/New_York:20250314T190000
DTEND;TZID=America/New_York:20250316T150000
DTSTAMP:20260420T005149
CREATED:20250103T032207Z
LAST-MODIFIED:20250103T032207Z
UID:211652-1741978800-1742137200@veronews.com
SUMMARY:Pelican Island NWR 122nd Anniversary Celebration
DESCRIPTION:The Pelican Island Conservation Society will celebrate the 122nd anniversary of the Pelican Island National Wildlife Refuge the weekend of March 14-16\, 2025. Festivities begin with a “fireside chat” with President Theodore Roosevelt at the Heritage Center on Friday\, March 14th. President Roosevelt will also join us throughout the weekend at the Refuge to meet and greet everyone. Please join us\, along with other environmental and history groups\, as we celebrate Pelican Island as our nation’s first National Wildlife Refuge. Visit www.FirstRefuge.org for full details and online reservations\, or call 772-202-0697.
URL:https://veronews.com/event/pelican-island-nwr-122nd-anniversary-celebration/
LOCATION:Pelican Island National Wildlife Refuge\, Jungle Trail\, Vero Beach\, Florida\, 32963
CATEGORIES:Community,Fundraiser
ATTACH;FMTTYPE=image/jpeg:https://veronews.com/wp-content/uploads/2024/12/TR-fireside.jpg
ORGANIZER;CN="Pelican Island Conservation Society":MAILTO:info@firstrefuge.org
END:VEVENT
BEGIN:VEVENT
DTSTART;TZID=America/New_York:20250316T150000
DTEND;TZID=America/New_York:20250316T180000
DTSTAMP:20260420T005149
CREATED:20250307T164459Z
LAST-MODIFIED:20250307T164647Z
UID:214998-1742137200-1742148000@veronews.com
SUMMARY:Atlantic Classical Orchestra at VBMA
DESCRIPTION:Atlantic Classical Orchestra Returns to the VBMA\nSundays\, January 19\, February 16 & March 16 / 3 p.m. \nThe 17th season of the celebrated partnership between the Vero Beach Museum of Art and the Atlantic Classical Orchestra begins in January 2025. Chamber concerts are held in VBMA’s Leonhardt Auditorium. \nIndividual Seats are $35 per VBMA member and ACO subscriber\, $50 per person for non-nonmember\, and $5 per students or child \nSeries tickets are $90 per VBMA member\, $105 per nonmember (includes Museum admission). \nJanuary 19: Café Music \nFebruary 16: Follow the Lieder \nMarch 16: Top Brass \nSupporting Sponsor: Kay and Rohit Desai
URL:https://veronews.com/event/atlantic-classical-orchestra-at-vbma-2/
LOCATION:Vero Beach Museum of Art\, 3001 Riverside Park Drive\, Vero Beach\, FL\, 32963
END:VEVENT
END:VCALENDAR