BEGIN:VCALENDAR
VERSION:2.0
PRODID:-//Vero News - ECPv6.15.18//NONSGML v1.0//EN
CALSCALE:GREGORIAN
METHOD:PUBLISH
X-WR-CALNAME:Vero News
X-ORIGINAL-URL:https://veronews.com
X-WR-CALDESC:Events for Vero News
REFRESH-INTERVAL;VALUE=DURATION:PT1H
X-Robots-Tag:noindex
X-PUBLISHED-TTL:PT1H
BEGIN:VTIMEZONE
TZID:America/New_York
BEGIN:DAYLIGHT
TZOFFSETFROM:-0500
TZOFFSETTO:-0400
TZNAME:EDT
DTSTART:20220313T070000
END:DAYLIGHT
BEGIN:STANDARD
TZOFFSETFROM:-0400
TZOFFSETTO:-0500
TZNAME:EST
DTSTART:20221106T060000
END:STANDARD
BEGIN:DAYLIGHT
TZOFFSETFROM:-0500
TZOFFSETTO:-0400
TZNAME:EDT
DTSTART:20230312T070000
END:DAYLIGHT
BEGIN:STANDARD
TZOFFSETFROM:-0400
TZOFFSETTO:-0500
TZNAME:EST
DTSTART:20231105T060000
END:STANDARD
BEGIN:DAYLIGHT
TZOFFSETFROM:-0500
TZOFFSETTO:-0400
TZNAME:EDT
DTSTART:20240310T070000
END:DAYLIGHT
BEGIN:STANDARD
TZOFFSETFROM:-0400
TZOFFSETTO:-0500
TZNAME:EST
DTSTART:20241103T060000
END:STANDARD
END:VTIMEZONE
BEGIN:VEVENT
DTSTART;TZID=America/New_York:20231202T080000
DTEND;TZID=America/New_York:20231202T120000
DTSTAMP:20260424T071503
CREATED:20230710T165423Z
LAST-MODIFIED:20230710T165423Z
UID:188563-1701504000-1701518400@veronews.com
SUMMARY:Kids Triathlon
DESCRIPTION:The Inaugural Rotary Kids Triathlon Vero Beach\, proudly presented by the Rotary Club of Vero Beach\, will be held at the Victor Hart Sr. Community Enhancement Complex in Vero Beach. This race will allow youngsters ages 6 – 13 to participate in a Swim\, Bike\, and Run multisport youth event that is geared for both 1st Time Triathletes and the seasoned competitive Triathlete.\nAll participants will receive an anklet and running bib with electronic timing chips (so their split and total times can be accurately reported). In addition\, each participant and their parent/guardian will receive a coded ID band for secure child pick-up in the Kid Corral (see Registration & Child Pick-Up Map)\, where the children will converge after crossing the Finish Line. \nThis race will also include a RELAY TEAM category in both the Junior and Senior Division. Under the race direction of DRC Sports\, this event will be Safe\, Fun\, and Professional for all athletes using USA Triathlon rules and guidelines. This race is NOT a USAT Sanctioned event. Race Central and the swim will be located at the Gifford Aquatic Center.\nEarly Bird Entry Fee until November 5th is ONLY $15\nRegistration Entry Fee November 6th – 29th is $25\nYour entry fee includes a Custom Event Shirt\, Spectacular Finisher Awards\, a Swagbag full of goodies\, plenty of food & drinks\, Music\, and Activities for the whole family and just maybe a really cool award if you finish in the TOP 3 of your age group or special category.\nPlease note that the entry fee has been artificially reduced to encourage participation by all children. Tax deductible donations to our Foundation for our Rotary programs would be gratefully appreciated. www.RotaryOfVeroBeach.com
URL:https://veronews.com/event/kids-triathlon/
LOCATION:Victor Hart Sr. Community Enhancement Complex\, 4715 43rd Ave\, Gifford\, FL\, 32967\, United States
CATEGORIES:Community
END:VEVENT
BEGIN:VEVENT
DTSTART;TZID=America/New_York:20231202T090000
DTEND;TZID=America/New_York:20231202T140000
DTSTAMP:20260424T071503
CREATED:20231206T165732Z
LAST-MODIFIED:20231206T165732Z
UID:195721-1701507600-1701525600@veronews.com
SUMMARY:69th Annual Christmas Tree Lane
DESCRIPTION:Holiday Bazaar and Bake Sale. 100s of nearly new items at bargain prices\, cookies-by-the-pound and other homemade baked goodies in Mrs Claus’ Pantry\, creative handcrafts\, local artisans. Raffle featuring Gift Card Tree valued at $750.00 plus two tickets to Orlando Ballets Nutcracker\, FPC Youth Jazz Combo. Sat. Dec. 2nd 9am-2pm\, 520 Royal Palm Blvd. Vero Beach. First Presbyterian Church\, all funds raised are donated in Indian River County\, Join us!!
URL:https://veronews.com/event/69th-annual-christmas-tree-lane/
LOCATION:First Presbyterian Church of Vero Beach\, 520 Royal Palm Blvd.\, Vero Beach\,  520 Royal Palm Blvd.\, Vero Beach\, FL\, United States
CATEGORIES:Fundraiser
END:VEVENT
BEGIN:VEVENT
DTSTART;TZID=America/New_York:20231202T100000
DTEND;TZID=America/New_York:20231202T150000
DTSTAMP:20260424T071503
CREATED:20231130T233343Z
LAST-MODIFIED:20231130T233343Z
UID:194971-1701511200-1701529200@veronews.com
SUMMARY:Annual Holiday Bazaar at the Sebastian River Art Club’s Gallery
DESCRIPTION:Saturday\, December 2\, 2023 10am to 3pm. Annual Holiday Bazaar at the SRAC Gallery – 1245 Main Street\, Sebastian\, FL. Shop Unique Gifts created by Local Artists\, Signed\, original artworks all priced under $100.00\, Special section of “Mini-Masterpieces” (100% of sales from this section benefit the local Ecumenical Food Council.) Proceeds from certain sales items also benefit our SRAC Scholarship Fund. \n– Bake Sale: Proceeds from the Bake Sale go to the local Ecumenical Food Council as well as to the Sebastian River Art Club’s Scholarship Fund.
URL:https://veronews.com/event/annual-holiday-bazaar-at-the-sebastian-river-art-clubs-gallery/
LOCATION:1245 Main Street\, Sebastian\, FL 32958\, 1245 Main Street\, Sebastian\, FL\, 32958\, United States
CATEGORIES:Community,Entertainment,Fundraiser
ORGANIZER;CN="Sebastian River Art Club":MAILTO:Sracclub@gmail.com
END:VEVENT
BEGIN:VEVENT
DTSTART;TZID=America/New_York:20231202T180000
DTEND;TZID=America/New_York:20231202T190000
DTSTAMP:20260424T071503
CREATED:20230728T035107Z
LAST-MODIFIED:20230728T035107Z
UID:190127-1701540000-1701543600@veronews.com
SUMMARY:Vero Beach Christmas Parade Hosted by Sunrise Rotary
DESCRIPTION:Annual Vero Beach Christmas Parade hosted by the Sunrise Rotary club of Vero Beach. Community wide event the 1st Sat in Dec. gathers at Riverside Park for staging then up Beachland to Cardinal south on Cardinal for placement..Then turn the corner at Flamevine for a trip north along Ocean Drive. Make sure to get your team\, org\, business\, group in early..
URL:https://veronews.com/event/vero-beach-christmas-parade-hosted-by-sunrise-rotary/
LOCATION:Ocean Dr.\, 32963\, United States
CATEGORIES:Community
ORGANIZER;CN="Sunrise Rotary Vero Beach":MAILTO:debbieainvero@gmail.com
END:VEVENT
END:VCALENDAR