BEGIN:VCALENDAR
VERSION:2.0
PRODID:-//Vero News - ECPv6.15.18//NONSGML v1.0//EN
CALSCALE:GREGORIAN
METHOD:PUBLISH
X-ORIGINAL-URL:https://veronews.com
X-WR-CALDESC:Events for Vero News
REFRESH-INTERVAL;VALUE=DURATION:PT1H
X-Robots-Tag:noindex
X-PUBLISHED-TTL:PT1H
BEGIN:VTIMEZONE
TZID:America/New_York
BEGIN:DAYLIGHT
TZOFFSETFROM:-0500
TZOFFSETTO:-0400
TZNAME:EDT
DTSTART:20190310T070000
END:DAYLIGHT
BEGIN:STANDARD
TZOFFSETFROM:-0400
TZOFFSETTO:-0500
TZNAME:EST
DTSTART:20191103T060000
END:STANDARD
BEGIN:DAYLIGHT
TZOFFSETFROM:-0500
TZOFFSETTO:-0400
TZNAME:EDT
DTSTART:20200308T070000
END:DAYLIGHT
BEGIN:STANDARD
TZOFFSETFROM:-0400
TZOFFSETTO:-0500
TZNAME:EST
DTSTART:20201101T060000
END:STANDARD
BEGIN:DAYLIGHT
TZOFFSETFROM:-0500
TZOFFSETTO:-0400
TZNAME:EDT
DTSTART:20210314T070000
END:DAYLIGHT
BEGIN:STANDARD
TZOFFSETFROM:-0400
TZOFFSETTO:-0500
TZNAME:EST
DTSTART:20211107T060000
END:STANDARD
END:VTIMEZONE
BEGIN:VEVENT
DTSTART;TZID=America/New_York:20201210T110000
DTEND;TZID=America/New_York:20201226T150000
DTSTAMP:20260419T092905
CREATED:20201209T120127Z
LAST-MODIFIED:20201217T142228Z
UID:143312-1607598000-1608994800@veronews.com
SUMMARY:Sebastian River Art Club Annual Holiday Bazaar
DESCRIPTION:Join us for our annual Holiday Bazaar at the Sebastian River Art Club Gallery\, 1245 Main Street\, Sebastian\, FL.\nWe are open every Tuesday\, Thursday and Saturday from 11AM to 3PM through December 26th.\n Bazaar features unique items from local artists\, as well as original Art priced under $100.\nProceeds from certain sales benefit the local food bank and our Scholarship Fund. \nFamily Friendly and Free
URL:https://veronews.com/event/sebastian-river-art-club-annual-holiday-bazaar/
LOCATION:FL
ATTACH;FMTTYPE=image/jpeg:https://veronews.com/wp-content/uploads/2020/12/VeroNews-Bazaar-Flyer-Flyer.jpg
ORGANIZER;CN="Sebastian River Art Club":MAILTO:SRACClub@gmail.com
END:VEVENT
BEGIN:VEVENT
DTSTART;TZID=America/New_York:20201219T100000
DTEND;TZID=America/New_York:20201219T160000
DTSTAMP:20260419T092905
CREATED:20201209T200325Z
LAST-MODIFIED:20201217T142216Z
UID:143480-1608372000-1608393600@veronews.com
SUMMARY:Sebastian River Art Club Arts & Crafts Show
DESCRIPTION:Join us in Riverview Park\, Sebastian this upcoming Saturday for our first “Art by the River” event since the end of 2019. Beautiful Art\, Creative Crafts from our local craft club\, and a lovely day by our gorgeous waterfront. A great opportunity to meet our local artists and crafters as well as an opportunity to pick up some one-of-a-kind gift items! Looking forward to seeing you there!
URL:https://veronews.com/event/sebastian-river-art-club-arts-crafts-show/
LOCATION:Riverview Park\, 600 U.S. Highway 1\, Sebastian\, FL\, 32958\, United States
ATTACH;FMTTYPE=image/jpeg:https://veronews.com/wp-content/uploads/2020/12/SRAC-December-Art-by-the-River-Flyer-for-calendar-submission.jpg
ORGANIZER;CN="Sebastian River Art Club":MAILTO:SRACClub@gmail.com
END:VEVENT
BEGIN:VEVENT
DTSTART;TZID=America/New_York:20201219T160000
DTEND;TZID=America/New_York:20201219T170000
DTSTAMP:20260419T092905
CREATED:20201118T205846Z
LAST-MODIFIED:20201118T205846Z
UID:142205-1608393600-1608397200@veronews.com
SUMMARY:"A Jazzin' Christmas"
DESCRIPTION:The third annual Have Piano will Duel concert presents “A Jazzin’ Christmas” on December 19\, 2020 at 4PM. Music Director\, Dr. Jacob Craig will lead gifted students through an intensive jazz workshop in the morning and perform Christmas standards spiced with a helping of jazz that evening. “A Jazzin’ Christmas” promises to be the perfect holiday recipe. The concert will be held on Saturday\, December 19th at 4PM at The First Presbyterian Church of Vero Beach\, 520 Royal Palm Blvd. The show is free and a $10 donation is suggested. Seating is limited\, so reservations are available at verovinofestival.com. Email havepianowillduel@gmail.com or call (772) 538 1181 for information.
URL:https://veronews.com/event/a-jazzin-christmas/
LOCATION:First Presbyterian Church of Vero Beach\, 520 Royal Palm Blvd.\, Vero Beach\,  520 Royal Palm Blvd.\, Vero Beach\, FL\, United States
CATEGORIES:Entertainment
ORGANIZER;CN="Have Piano will Duel":MAILTO:havepianowillduel@gmail.com
END:VEVENT
BEGIN:VEVENT
DTSTART;TZID=America/New_York:20201219T190000
DTEND;TZID=America/New_York:20201219T223000
DTSTAMP:20260419T092905
CREATED:20201130T210332Z
LAST-MODIFIED:20201217T142256Z
UID:142921-1608404400-1608417000@veronews.com
SUMMARY:Comedy Zone
DESCRIPTION:Riverside’s showcase of professional comedians touring the comedy circuit takes the Waxlax Stage. Comedians are: Mutzie and Ben Jones. Local musicians play the Live in the Loop Outdoor Stage on Friday and Saturday. Bands are: Radio Days (Friday) and The Real Deal (Saturday).
URL:https://veronews.com/event/comedy-zone-47/
LOCATION:Riverside Theatre\, 3250 Riverside Park Dr.\, Vero Beach\, FL\, 32963\, United States
ORGANIZER;CN="Riverside Theatre":MAILTO:tix@riversidetheatre.com
END:VEVENT
END:VCALENDAR