BEGIN:VCALENDAR
VERSION:2.0
PRODID:-//Vero News - ECPv6.15.18//NONSGML v1.0//EN
CALSCALE:GREGORIAN
METHOD:PUBLISH
X-WR-CALNAME:Vero News
X-ORIGINAL-URL:https://veronews.com
X-WR-CALDESC:Events for Vero News
REFRESH-INTERVAL;VALUE=DURATION:PT1H
X-Robots-Tag:noindex
X-PUBLISHED-TTL:PT1H
BEGIN:VTIMEZONE
TZID:America/New_York
BEGIN:DAYLIGHT
TZOFFSETFROM:-0500
TZOFFSETTO:-0400
TZNAME:EDT
DTSTART:20190310T070000
END:DAYLIGHT
BEGIN:STANDARD
TZOFFSETFROM:-0400
TZOFFSETTO:-0500
TZNAME:EST
DTSTART:20191103T060000
END:STANDARD
BEGIN:DAYLIGHT
TZOFFSETFROM:-0500
TZOFFSETTO:-0400
TZNAME:EDT
DTSTART:20200308T070000
END:DAYLIGHT
BEGIN:STANDARD
TZOFFSETFROM:-0400
TZOFFSETTO:-0500
TZNAME:EST
DTSTART:20201101T060000
END:STANDARD
BEGIN:DAYLIGHT
TZOFFSETFROM:-0500
TZOFFSETTO:-0400
TZNAME:EDT
DTSTART:20210314T070000
END:DAYLIGHT
BEGIN:STANDARD
TZOFFSETFROM:-0400
TZOFFSETTO:-0500
TZNAME:EST
DTSTART:20211107T060000
END:STANDARD
END:VTIMEZONE
BEGIN:VEVENT
DTSTART;TZID=America/New_York:20200114T180000
DTEND;TZID=America/New_York:20200204T200000
DTSTAMP:20260419T152951
CREATED:20200123T164751Z
LAST-MODIFIED:20200123T164751Z
UID:124791-1579024800-1580846400@veronews.com
SUMMARY:Youth Guidance 2020 King of the Hill Tennis Tournament
DESCRIPTION:Youth Guidance King of the Hill Tennis Tournament fundraiser. In it’s 25th year\, King of the Hill gives tennis fans the opportunity to enjoy high level duobles\, while providing local tennis professionals the opportunity to compete. This is all for a good cause; proceeds go to Youth Guidance Mentoring Academy.
URL:https://veronews.com/event/youth-guidance-2020-king-of-the-hill-tennis-tournament/
LOCATION:The Boulevard\, 1620 Boulevard Village Lane - 1/14 - 2/4\, Vero Beach\, FL\, 32967
CATEGORIES:Fundraiser
ORGANIZER;CN="Youth Guidance Mentoring Academy":MAILTO:sqbhunt@aol.com
END:VEVENT
BEGIN:VEVENT
DTSTART;TZID=America/New_York:20200114T180000
DTEND;TZID=America/New_York:20200303T200000
DTSTAMP:20260419T152951
CREATED:20200106T173023Z
LAST-MODIFIED:20200106T173023Z
UID:123390-1579024800-1583265600@veronews.com
SUMMARY:Youth Guidance King of the Hill Tennis Tournament
DESCRIPTION:The Youth Guidance Mentoring Academy’s 2020 King of the Hill Tennis Tournament starts Tuesday\, January 14th. King of the Hill will be held at two locations this year! The 40’s and 50’s Division will be at the Boulevard Tennis Club on consecutive Tuesdays\, beginning January 14th thru February 4th. The Open Division will be held at the Moorings Yacht and Country Club from February 11th through March 3rd. The eight-week tournament will start at 6:00 p.m. with local pros vying to be named King of the Hill.\nNow in its 25th year\, King of the Hill gives tennis fans the opportunity to enjoy high level doubles competition\, while providing local tennis professionals the chance to participate in the festivities and appreciate the spirit of competition.\nAll proceeds support Youth Guidance Mentoring Academy. In fulfilling its mission\, Youth Guidance is dedicated to enriching the lives of Indian RIver County youth through mentoring relationships that inspire trust\, self-esteem and positive futures.
URL:https://veronews.com/event/youth-guidance-king-of-the-hill-tennis-tournament/
LOCATION:The Boulevard\, 1620 Boulevard Village Lane - 1/14 - 2/4\, Vero Beach\, FL\, 32967
CATEGORIES:Fundraiser
ORGANIZER;CN="Youth Guidance Mentoring Academy":MAILTO:sqbhunt@aol.com
END:VEVENT
BEGIN:VEVENT
DTSTART;TZID=America/New_York:20200201T090000
DTEND;TZID=America/New_York:20200202T170000
DTSTAMP:20260419T152951
CREATED:20191118T183533Z
LAST-MODIFIED:20191118T183533Z
UID:119905-1580547600-1580662800@veronews.com
SUMMARY:Gardenfest! 2020
DESCRIPTION:Gardenfest! Nature’s Finest Marketplace\nReturns to Vero Beach for 19th Year February 1-2\nPlan your trip to the 19th annual Gardenfest! Great varieties of plants\, pots and garden ornaments from more than 85 vendors. Expert lectures and advice featured each day. Featuring activities for kids; food court and raffle prizes.\nGardenfest! as always\, free admission and parking\, rain or shine.\nFind out more at www.gardenclubofirc.org
URL:https://veronews.com/event/gardenfest-2020/
LOCATION:Riverside Park\, 3280 Riverside Park Dr.\, Vero Beach\, 32963\, United States
CATEGORIES:Community
ORGANIZER;CN="Garden Club of Indian River County":MAILTO:info@gardenclubofirc.org
END:VEVENT
BEGIN:VEVENT
DTSTART;TZID=America/New_York:20200201T183000
DTEND;TZID=America/New_York:20200201T203000
DTSTAMP:20260419T152951
CREATED:20200123T165000Z
LAST-MODIFIED:20200123T165000Z
UID:125330-1580581800-1580589000@veronews.com
SUMMARY:Blue Cypress Bluegrass  Marsh Landing
DESCRIPTION:Enjoy Blue Cypress Bluegrass band LIVE on Friday nights year round at Marsh Landing! Come enjoy the home-cooked Florida Cracker style cooking and check out all the memorabilia of things of the past! Come step back in time with real traditional bluegrass\, authentic old-time country\, Americana music\, while browsing “old Florida” décor! All ages are welcome! Reservations strongly recommended but not required.
URL:https://veronews.com/event/blue-cypress-bluegrass-marsh-landing-2/
LOCATION:Marsh Landing Restaurant\, 44 N. Broadway Street\, Fellsmere\, FL\, 32948\, United States
CATEGORIES:Entertainment
ATTACH;FMTTYPE=image/jpeg:https://veronews.com/wp-content/uploads/2020/01/MARSH-gig-flier-advertising.jpg
END:VEVENT
END:VCALENDAR